BEGIN:VCALENDAR
VERSION:2.0
PRODID:-//wp-events-plugin.com//7.2.3.1//EN
TZID:Europe/Berlin
X-WR-TIMEZONE:Europe/Berlin
BEGIN:VEVENT
UID:115@57nord.de
DTSTART;TZID=Europe/Berlin:20240222T180000
DTEND;TZID=Europe/Berlin:20240222T193000
DTSTAMP:20240207T181454Z
URL:https://57nord.de/events/open-portraitshooting-2024-02-22/
SUMMARY:Open Portraitshooting (HerrWalther)
DESCRIPTION:Donnerstags lädt Percy Euch ein\,\nzum offenen Portraitshootin
 g.\n\nFrei nach dem Motto „come as you are“\,\nwerden Porträts angefe
 rtigt\, in Blackm'n'White\noder auch gerne mit viel Farbe.\n\nDomstraße 5
 7\, Offenbach am Main\nIm Hinterhof links.
ATTACH;FMTTYPE=image/jpeg:https://57nord.de/wp-content/uploads/2024/02/Art
 Board1.png
CATEGORIES:Donnerstags bei 57Nord
LOCATION:57Nord\, Domstraße 57\, Offenbach am Main\, Hessen\, 63067\, Deut
 schland
X-APPLE-STRUCTURED-LOCATION;VALUE=URI;X-ADDRESS=Domstraße 57\, Offenbach a
 m Main\, Hessen\, 63067\, Deutschland;X-APPLE-RADIUS=100;X-TITLE=57Nord:ge
 o:0,0
END:VEVENT
BEGIN:VTIMEZONE
TZID:Europe/Berlin
X-LIC-LOCATION:Europe/Berlin
BEGIN:STANDARD
DTSTART:20231029T020000
TZOFFSETFROM:+0200
TZOFFSETTO:+0100
TZNAME:CET
END:STANDARD
END:VTIMEZONE
END:VCALENDAR