BEGIN:VCALENDAR
VERSION:2.0
PRODID:-//wp-events-plugin.com//7.2.3.1//EN
TZID:Europe/Berlin
X-WR-TIMEZONE:Europe/Berlin
BEGIN:VEVENT
UID:188@57nord.de
DTSTART;TZID=Europe/Berlin:20260421T170000
DTEND;TZID=Europe/Berlin:20261217T190000
DTSTAMP:20260420T175118Z
URL:https://57nord.de/events/ausstellung-ina-hagen-ausstellung-zwischen-de
 n-ausstellung/
SUMMARY:Ausstellung: Ina Hagen (Ausstellung zwischen den Ausstellung)
DESCRIPTION:Was versteht man unter einem Lebenswerk?\nSind es 234 Bilder?\n
 Oder ist es die Hingabe\, die Freude und die Energie\, mit der wir die Kun
 st erschaffen?\nDoch was geschieht mit dem\, was wir erschaffen\, wenn ein
 e Krankheit wie Demenz die Erinnerung nimmt? Die Kunstform gibt uns die M
 öglichkeit\, solche Erinnerungen bestehen zu lassen.\nDer Künstlerin Mar
 ina Hagen ist bedauerlicherweise genau dieses Schicksal widerfahren. Gebor
 en 1950 in Herzogenrath in der Nähe von Aachen wuchs sie in einem künstl
 erisch geprägten Haushalt auf und entdeckte nach ihrer Ausbildung ihre Le
 idenschaft für Kunst neu. Ihren farbenfrohen und energetischen Stil entwi
 ckelte sie unter anderem in ihrer Zeit als Gaststudentin an der Hochschule
  für Gestaltung in Offenbach. Um ihr Lebenswerk zu wahren\, haben wir von
  57Nord uns dazu entschieden\, ausgewählte Kunstwerke unter dem Titel „
 Ausstellung zwischen den Ausstellungen“ von ihr in unseren Räumlichkeit
 en zu präsentieren. So bleibt ihre Kunst präsent und kann weiterhin wirk
 en. Gleichsam besteht die Möglichkeit\, Werke zu erwerben und damit die T
 ochter der Künstlerin bei anstehenden Pflegekosten zu unterstützen.\nEs 
 erwartet euch ein Potpourri aus leuchtenden Mohn- und Sonnenblumen\, sinnl
 ichen Tänzerinnen\, geheimnisvollen Göttinnen und abstrakten\, farbenkr
 äftigen Gemälden\, die vor Energie nur so sprühen.\nDie Termine sind wi
 e folgend:\n\n\n\n\nAusstellungszeiten:\n\n\nDi. und Do. 17 - 19 Uhr\n\n\n
 14.04\nbis\n14.05.26\n\n\n\n04.06\nbis\n23.07.26\n\n\n\n18.08\nbis\n03.09.
 26\n\n\n\n29.09\nbis\n15.10.26\n\n\n\n10.11\nbis\n26.11.26\n\n\n\n08.12\nb
 is\n17.12.26\n\n\n\n\n\n\n\n\n\nAuch im Stadtteil Büro Nordend\, ab dem 0
 2.06.2026.\n\n\n\nDer Weg zu uns:\n\n\nVollbildanzeige\n\n&nbsp\;\n\n\n\n
 📰 In unserem Newsletter erhaltet ihr zusätzliche Informationen.\n🎙
 ️ Oder auch in unserem Podcast
ATTACH;FMTTYPE=image/jpeg:https://57nord.de/wp-content/uploads/2026/04/260
 303_A3_300dpi_C1_2025_Catalog_Auftraege0742.jpg
LOCATION:57Nord\, Domstraße 57\, Offenbach am Main\, Hessen\, 63067\, Deut
 schland
X-APPLE-STRUCTURED-LOCATION;VALUE=URI;X-ADDRESS=Domstraße 57\, Offenbach a
 m Main\, Hessen\, 63067\, Deutschland;X-APPLE-RADIUS=100;X-TITLE=57Nord:ge
 o:0,0
END:VEVENT
BEGIN:VTIMEZONE
TZID:Europe/Berlin
X-LIC-LOCATION:Europe/Berlin
BEGIN:DAYLIGHT
DTSTART:20260329T030000
TZOFFSETFROM:+0100
TZOFFSETTO:+0200
TZNAME:CEST
END:DAYLIGHT
BEGIN:STANDARD
DTSTART:20261025T020000
TZOFFSETFROM:+0200
TZOFFSETTO:+0100
TZNAME:CET
END:STANDARD
END:VTIMEZONE
END:VCALENDAR