BEGIN:VCALENDAR
VERSION:2.0
PRODID:-//wp-events-plugin.com//7.2.3.1//EN
TZID:Europe/Berlin
X-WR-TIMEZONE:Europe/Berlin
BEGIN:VEVENT
UID:187@57nord.de
DTSTART;TZID=Europe/Berlin:20260414T170000
DTEND;TZID=Europe/Berlin:20260414T200000
DTSTAMP:20260413T163800Z
URL:https://57nord.de/events/ausstellung-ausstellung-zwischen-den-ausstell
 ungen/
SUMMARY:Ausstellung: Ausstellung zwischen den Ausstellungen
DESCRIPTION:\nWas versteht man unter einem Lebenswerk?\nSind es 234 Bilder?
 \nOder ist es die Hingabe\, die Freude und die Energie\, mit der wir die K
 unst erschaffen?\nDoch was geschieht mit dem\, was wir erschaffen\, wenn e
 ine Krankheit wie Demenz die Erinnerung nimmt? Die Kunstform gibt uns die 
 Möglichkeit\, solche Erinnerungen bestehen zu lassen.\nDer Künstlerin Ma
 rina Hagen ist bedauerlicherweise genau dieses Schicksal widerfahren. Gebo
 ren 1950 in Herzogenrath in der Nähe von Aachen wuchs sie in einem künst
 lerisch geprägten Haushalt auf und entdeckte nach ihrer Ausbildung ihre L
 eidenschaft für Kunst neu. Ihren farbenfrohen und energetischen Stil entw
 ickelte sie unter anderem in ihrer Zeit als Gaststudentin an der Hochschul
 e für Gestaltung in Offenbach. Um ihr Lebenswerk zu wahren\, haben wir vo
 n 57Nord uns dazu entschieden\, ausgewählte Kunstwerke unter dem Titel 
 „Ausstellung zwischen den Ausstellungen“ von ihr in unseren Räumlichk
 eiten zu präsentieren. So bleibt ihre Kunst präsent und kann weiterhin w
 irken. Gleichsam besteht die Möglichkeit\, Werke zu erwerben und damit di
 e Tochter der Künstlerin bei anstehenden Pflegekosten zu unterstützen.\n
 Es erwartet euch ein Potpourri aus leuchtenden Mohn- und Sonnenblumen\, si
 nnlichen Tänzerinnen\, geheimnisvollen Göttinnen und abstrakten\, farben
 kräftigen Gemälden\, die vor Energie nur so sprühen.\nBeginnen wird die
  Ausstellung am 14.04. ab 17 Uhr. Zu sehen sein werden ihre Werke ganzjäh
 rig abseits der weiteren Veranstaltungen immer dienstags und donnerstags v
 on 17 bis 20 Uhr.\n&nbsp\;\n\nDer Weg zu uns:\n\n\nVollbildanzeige\n\n&nbs
 p\;\n\n\n\n📰 In unserem Newsletter erhaltet ihr zusätzliche Informatio
 nen.\n🎙️ Oder auch in unserem Podcast
ATTACH;FMTTYPE=image/jpeg:https://57nord.de/wp-content/uploads/2026/04/260
 303_A3_300dpi_C1_2025_Catalog_Auftraege0742.jpg
LOCATION:57Nord\, Domstraße 57\, Offenbach am Main\, Hessen\, 63067\, Deut
 schland
X-APPLE-STRUCTURED-LOCATION;VALUE=URI;X-ADDRESS=Domstraße 57\, Offenbach a
 m Main\, Hessen\, 63067\, Deutschland;X-APPLE-RADIUS=100;X-TITLE=57Nord:ge
 o:0,0
END:VEVENT
BEGIN:VTIMEZONE
TZID:Europe/Berlin
X-LIC-LOCATION:Europe/Berlin
BEGIN:DAYLIGHT
DTSTART:20260329T030000
TZOFFSETFROM:+0100
TZOFFSETTO:+0200
TZNAME:CEST
END:DAYLIGHT
END:VTIMEZONE
END:VCALENDAR